BEGIN:VCALENDAR
VERSION:2.0
PRODID:-//ChamberMaster//Event Calendar 2.0//EN
METHOD:PUBLISH
X-PUBLISHED-TTL:P3D
REFRESH-INTERVAL:P3D
CALSCALE:GREGORIAN
BEGIN:VEVENT
DTSTART:20220519T160000Z
DTEND:20220519T200000Z
X-MICROSOFT-CDO-ALLDAYEVENT:FALSE
SUMMARY:Business Showcase
DESCRIPTION:At this Business Showcase event\, local businesses will display and promote their products and services for you! From professional services to delicious dining\, self care\, home maintenance\, family entertainment\, automotive care\, finance and more. Learn more about life on the Mainland in Galveston County!\n\n\n\nThe event also includes a "Taste of the Town!" with food and drink samples from local restaurants and caterers. You'll be able to try foods from all the new restaurants at Mainland City Centre plus others from the community. \n\n\n\nEnjoy free admission to the Business Showcase! \n\n\n\nThere will be live music\, door prizes\, delicious food and lots of giveaways! Complete the "Business Showcase Passport" by visiting with ALL exhibitors and be entered in the Grand Prize drawing for two $100 VISA Gift Cards!  (After completing the passport\, you do not have to remain present to win!)\n\n \n\nVisit with these awesome Showcase Exhibitors!\n\n(list as of May 17th)\n\nAMOCO Federal Credit Union - SPONSOR!\n\nAnchor Point\n\nAssociated Credit Union of Texas - SPONSOR!\n\nBaypointe Manor Apartments\n\nBeauty Exposed\n\nBig Phil's Soul & Creole\n\nBrewchacho's Restaurant\n\nBrick and Spoon\n\nCatering by Benno\n\nCity of Texas City - SPONSOR!\n\nCoastal Community FCU\n\nCollege of the Mainland\n\nDevereux Advanced Behavioral Health\n\nGalveston County Small Business Development Center\n\nGrand Prize Barbeque\n\nGrazia Italian Restaurant\n\nGrease Monkey - SPONSOR!\n\nGringo's Mexican Kitchen\n\nHospitality Health ER - SPONSOR!\n\nHouston Hurricane & Security Products\n\nMainland City Center-JMK5 Holdings - SPONSOR!\n\nMD Anderson Cancer Center\n\nPeeking Duck Asian Fusion Restaurant\n\nPharaoh Health & Rehab\n\nRE/MAX Coastal\n\nRobinette & Company Caterers\n\nSanta Fe Texas Education Foundation\n\nShriners Children's Texas - SPONSOR!\n\nStuttgarden Tavern - SPONSOR!\n\nTastefully Yours Catering\n\nTejas Imagery & Media Services\n\nTello Smiles\n\nTerror Isle Adventures\n\nTexas Entertainment Xperience\n\nTexas First Bank - SPONSOR!\n\nTexas City ISD Foundation for the Future\n\nTexas Pit Stop BBQ\n\nThe Daily News - SPONSOR!\n\nUTMB Health - SPONSOR!\n\nVisiting Angels\n\nWellby\, Powered by JSCFCU\n\nWorld Gym\n\nZel's Massage & Fitness Center\n\n \n\n- - - - - - - - - - - - - - - - - - - - - - - - - - - - \n\n \n\nPRIZES & GIVEAWAYS\nEvery exhibitor will give away at least one Door Prize. Drawings will be held every 30 minutes.  The two Grand Prize $100 VISA Gift Card drawings will be held at 1:00 and 3:00pm.
X-ALT-DESC;FMTTYPE=text/html:<p><span style="font-size:16px\;"><span style="font-family:arial\,sans-serif\;">At this <span style="color:#008080\;"><strong>Business Showcase</strong></span> event\, local businesses&nbsp\;will display&nbsp\;and promote their products and services for you!&nbsp\;From professional services to delicious dining\, self care\, home maintenance\, family entertainment\, automotive care\, finance and more.&nbsp\;</span></span><strong><em><span style="color: rgb(51\, 51\, 51)\; font-family: arial\, sans-serif\; font-size: 16px\; background-color: rgb(255\, 255\, 255)\;">L</span><span style="color: rgb(51\, 51\, 51)\; font-family: arial\, sans-serif\; font-size: 16px\; background-color: rgb(255\, 255\, 255)\;">earn more about life on the Mainland in Galveston County!</span></em></strong><br>\n<br>\n<span style="font-size:16px\;"><span style="font-family:arial\,sans-serif\;">The event also includes&nbsp\;a "<span style="color:#A52A2A\;"><strong>Taste of the Town!</strong></span>"&nbsp\;with food and drink samples from local restaurants and caterers.&nbsp\;You'll be able to try foods from all the <u>new</u> restaurants at Mainland City Centre plus others from the community.&nbsp\;<br>\n<br>\nEnjoy free admission to the Business Showcase!&nbsp\;<br>\n<br>\nThere will be live music\, door prizes\, delicious&nbsp\;food and lots of giveaways! Complete the "Business Showcase Passport" by visiting with ALL exhibitors and be entered in the Grand Prize drawing for two $100 VISA Gift Cards!&nbsp\; (After completing the passport\, you do not have to remain present to win!)</span></span><br>\n&nbsp\;</p>\n\n<p style="text-align: center\;"><span style="font-size: 18px\; color: rgb(16\, 150\, 179)\; font-weight: bold\;">Visit with these awesome Showcase Exhibitors!</span></p>\n\n<div style="color: rgb(64\, 63\, 66)\; font-family: Arial\, Verdana\, Helvetica\, sans-serif\; font-size: 14px\; white-space: pre-wrap\; background-color: rgb(255\, 255\, 255)\; text-align: center\;"><span style="font-size:10px\;">(list as of May 17th)</span></div>\n\n<div style="color: rgb(64\, 63\, 66)\; font-family: Arial\, Verdana\, Helvetica\, sans-serif\; font-size: 14px\; white-space: pre-wrap\; background-color: rgb(255\, 255\, 255)\; text-align: center\;"><span style="color: rgb(12\, 115\, 138)\;">AMOCO Federal Credit Union - </span><span style="color:#DAA520\;"><span style="font-size: 12px\; font-style: italic\; font-weight: bold\;">SPONSOR!</span></span></div>\n\n<div style="color: rgb(64\, 63\, 66)\; font-family: Arial\, Verdana\, Helvetica\, sans-serif\; font-size: 14px\; white-space: pre-wrap\; background-color: rgb(255\, 255\, 255)\; text-align: center\;"><span style="color: rgb(12\, 115\, 138)\;">Anchor Point</span></div>\n\n<div style="color: rgb(64\, 63\, 66)\; font-family: Arial\, Verdana\, Helvetica\, sans-serif\; font-size: 14px\; white-space: pre-wrap\; background-color: rgb(255\, 255\, 255)\; text-align: center\;"><span style="color: rgb(12\, 115\, 138)\;">Associated Credit Union of Texas </span><span style="color:#DAA520\;">- <span style="font-size: 12px\; font-weight: bold\; font-style: italic\;">SPONSOR!</span></span></div>\n\n<div style="color: rgb(64\, 63\, 66)\; font-family: Arial\, Verdana\, Helvetica\, sans-serif\; font-size: 14px\; white-space: pre-wrap\; background-color: rgb(255\, 255\, 255)\; text-align: center\;"><span style="color: rgb(12\, 115\, 138)\;">Baypointe Manor Apartments</span></div>\n\n<div style="color: rgb(64\, 63\, 66)\; font-family: Arial\, Verdana\, Helvetica\, sans-serif\; font-size: 14px\; white-space: pre-wrap\; background-color: rgb(255\, 255\, 255)\; text-align: center\;"><span style="color: rgb(12\, 115\, 138)\;">Beauty Exposed</span></div>\n\n<div style="color: rgb(64\, 63\, 66)\; font-family: Arial\, Verdana\, Helvetica\, sans-serif\; font-size: 14px\; white-space: pre-wrap\; background-color: rgb(255\, 255\, 255)\; text-align: center\;"><span style="color: rgb(12\, 115\, 138)\;">Big Phil's Soul &amp\; Creole</span></div>\n\n<div style="color: rgb(64\, 63\, 66)\; font-family: Arial\, Verdana\, Helvetica\, sans-serif\; font-size: 14px\; white-space: pre-wrap\; background-color: rgb(255\, 255\, 255)\; text-align: center\;"><span style="color: rgb(12\, 115\, 138)\;">Brewchacho's Restaurant</span></div>\n\n<div style="color: rgb(64\, 63\, 66)\; font-family: Arial\, Verdana\, Helvetica\, sans-serif\; font-size: 14px\; white-space: pre-wrap\; background-color: rgb(255\, 255\, 255)\; text-align: center\;"><span style="color: rgb(12\, 115\, 138)\;">Brick and Spoon</span></div>\n\n<div style="color: rgb(64\, 63\, 66)\; font-family: Arial\, Verdana\, Helvetica\, sans-serif\; font-size: 14px\; white-space: pre-wrap\; background-color: rgb(255\, 255\, 255)\; text-align: center\;"><span style="color: rgb(12\, 115\, 138)\;">Catering by Benno</span></div>\n\n<div style="color: rgb(64\, 63\, 66)\; font-family: Arial\, Verdana\, Helvetica\, sans-serif\; font-size: 14px\; white-space: pre-wrap\; background-color: rgb(255\, 255\, 255)\; text-align: center\;"><span style="color: rgb(12\, 115\, 138)\;">City of Texas City </span><span style="color:#DAA520\;">- <span style="font-size: 12px\; font-style: italic\; font-weight: bold\;">SPONSOR!</span></span></div>\n\n<div style="color: rgb(64\, 63\, 66)\; font-family: Arial\, Verdana\, Helvetica\, sans-serif\; font-size: 14px\; white-space: pre-wrap\; background-color: rgb(255\, 255\, 255)\; text-align: center\;"><span style="color: rgb(12\, 115\, 138)\;">Coastal Community FCU</span></div>\n\n<div style="color: rgb(64\, 63\, 66)\; font-family: Arial\, Verdana\, Helvetica\, sans-serif\; font-size: 14px\; white-space: pre-wrap\; background-color: rgb(255\, 255\, 255)\; text-align: center\;"><span style="color: rgb(12\, 115\, 138)\;">College of the Mainland</span></div>\n\n<div style="color: rgb(64\, 63\, 66)\; font-family: Arial\, Verdana\, Helvetica\, sans-serif\; font-size: 14px\; white-space: pre-wrap\; background-color: rgb(255\, 255\, 255)\; text-align: center\;"><span style="color: rgb(12\, 115\, 138)\;">Devereux Advanced Behavioral Health</span></div>\n\n<div style="color: rgb(64\, 63\, 66)\; font-family: Arial\, Verdana\, Helvetica\, sans-serif\; font-size: 14px\; white-space: pre-wrap\; background-color: rgb(255\, 255\, 255)\; text-align: center\;"><span style="color: rgb(12\, 115\, 138)\;">Galveston County Small Business Development Center</span></div>\n\n<div style="color: rgb(64\, 63\, 66)\; font-family: Arial\, Verdana\, Helvetica\, sans-serif\; font-size: 14px\; white-space: pre-wrap\; background-color: rgb(255\, 255\, 255)\; text-align: center\;"><span style="color: rgb(12\, 115\, 138)\;">Grand Prize Barbeque</span></div>\n\n<div style="color: rgb(64\, 63\, 66)\; font-family: Arial\, Verdana\, Helvetica\, sans-serif\; font-size: 14px\; white-space: pre-wrap\; background-color: rgb(255\, 255\, 255)\; text-align: center\;"><span style="color: rgb(12\, 115\, 138)\;">Grazia Italian Restaurant</span></div>\n\n<div style="color: rgb(64\, 63\, 66)\; font-family: Arial\, Verdana\, Helvetica\, sans-serif\; font-size: 14px\; white-space: pre-wrap\; background-color: rgb(255\, 255\, 255)\; text-align: center\;"><span style="color: rgb(12\, 115\, 138)\;">Grease Monkey - </span><span style="color:#DAA520\;"><span style="font-size: 12px\; font-style: italic\; font-weight: bold\;">SPONSOR!</span></span></div>\n\n<div style="color: rgb(64\, 63\, 66)\; font-family: Arial\, Verdana\, Helvetica\, sans-serif\; font-size: 14px\; white-space: pre-wrap\; background-color: rgb(255\, 255\, 255)\; text-align: center\;"><span style="color: rgb(12\, 115\, 138)\;">Gringo's Mexican Kitchen</span></div>\n\n<div style="color: rgb(64\, 63\, 66)\; font-family: Arial\, Verdana\, Helvetica\, sans-serif\; font-size: 14px\; white-space: pre-wrap\; background-color: rgb(255\, 255\, 255)\; text-align: center\;"><span style="color: rgb(12\, 115\, 138)\;">Hospitality Health ER </span><span style="font-size:12px\;"><span style="color:#DAA520\;"><em>- SPONSOR!</em></span></span></div>\n\n<div style="color: rgb(64\, 63\, 66)\; font-family: Arial\, Verdana\, Helvetica\, sans-serif\; font-size: 14px\; white-space: pre-wrap\; background-color: rgb(255\, 255\, 255)\; text-align: center\;"><span style="color: rgb(12\, 115\, 138)\;">Houston Hurricane &amp\; Security Products</span></div>\n\n<div style="color: rgb(64\, 63\, 66)\; font-family: Arial\, Verdana\, Helvetica\, sans-serif\; font-size: 14px\; white-space: pre-wrap\; background-color: rgb(255\, 255\, 255)\; text-align: center\;"><span style="color: rgb(12\, 115\, 138)\;">Mainland City Center-JMK5 Holdings - </span><span style="color:#DAA520\;"><span style="font-size: 12px\; font-style: italic\; font-weight: bold\;">SPONSOR!</span></span></div>\n\n<div style="color: rgb(64\, 63\, 66)\; font-family: Arial\, Verdana\, Helvetica\, sans-serif\; font-size: 14px\; white-space: pre-wrap\; background-color: rgb(255\, 255\, 255)\; text-align: center\;"><span style="color: rgb(12\, 115\, 138)\;">MD Anderson Cancer Center</span></div>\n\n<div style="color: rgb(64\, 63\, 66)\; font-family: Arial\, Verdana\, Helvetica\, sans-serif\; font-size: 14px\; white-space: pre-wrap\; background-color: rgb(255\, 255\, 255)\; text-align: center\;"><span style="color: rgb(12\, 115\, 138)\;">Peeking Duck Asian Fusion Restaurant</span></div>\n\n<div style="color: rgb(64\, 63\, 66)\; font-family: Arial\, Verdana\, Helvetica\, sans-serif\; font-size: 14px\; white-space: pre-wrap\; background-color: rgb(255\, 255\, 255)\; text-align: center\;"><span style="color: rgb(12\, 115\, 138)\;">Pharaoh Health &amp\; Rehab</span></div>\n\n<div style="color: rgb(64\, 63\, 66)\; font-family: Arial\, Verdana\, Helvetica\, sans-serif\; font-size: 14px\; white-space: pre-wrap\; background-color: rgb(255\, 255\, 255)\; text-align: center\;"><span style="color: rgb(12\, 115\, 138)\;">RE/MAX Coastal</span></div>\n\n<div style="color: rgb(64\, 63\, 66)\; font-family: Arial\, Verdana\, Helvetica\, sans-serif\; font-size: 14px\; white-space: pre-wrap\; background-color: rgb(255\, 255\, 255)\; text-align: center\;"><span style="color: rgb(12\, 115\, 138)\;">Robinette &amp\; Company Caterers</span></div>\n\n<div style="color: rgb(64\, 63\, 66)\; font-family: Arial\, Verdana\, Helvetica\, sans-serif\; font-size: 14px\; white-space: pre-wrap\; background-color: rgb(255\, 255\, 255)\; text-align: center\;"><span style="color: rgb(12\, 115\, 138)\;">Santa Fe Texas Education Foundation</span></div>\n\n<div style="color: rgb(64\, 63\, 66)\; font-family: Arial\, Verdana\, Helvetica\, sans-serif\; font-size: 14px\; white-space: pre-wrap\; background-color: rgb(255\, 255\, 255)\; text-align: center\;"><span style="color: rgb(12\, 115\, 138)\;">Shriners Children's Texas - </span><span style="color:#DAA520\;"><span style="font-size: 12px\; font-style: italic\; font-weight: bold\;">SPONSOR!</span></span></div>\n\n<div style="color: rgb(64\, 63\, 66)\; font-family: Arial\, Verdana\, Helvetica\, sans-serif\; font-size: 14px\; white-space: pre-wrap\; background-color: rgb(255\, 255\, 255)\; text-align: center\;"><span style="color: rgb(12\, 115\, 138)\;">Stuttgarden Tavern </span><span style="color:#DAA520\;">- <span style="font-size: 12px\; font-style: italic\; font-weight: bold\;">SPONSOR!</span></span></div>\n\n<div style="color: rgb(64\, 63\, 66)\; font-family: Arial\, Verdana\, Helvetica\, sans-serif\; font-size: 14px\; white-space: pre-wrap\; background-color: rgb(255\, 255\, 255)\; text-align: center\;"><span style="color: rgb(12\, 115\, 138)\;">Tastefully Yours Catering</span></div>\n\n<div style="color: rgb(64\, 63\, 66)\; font-family: Arial\, Verdana\, Helvetica\, sans-serif\; font-size: 14px\; white-space: pre-wrap\; background-color: rgb(255\, 255\, 255)\; text-align: center\;"><span style="color: rgb(12\, 115\, 138)\;">Tejas Imagery &amp\; Media Services</span></div>\n\n<div style="color: rgb(64\, 63\, 66)\; font-family: Arial\, Verdana\, Helvetica\, sans-serif\; font-size: 14px\; white-space: pre-wrap\; background-color: rgb(255\, 255\, 255)\; text-align: center\;"><span style="color: rgb(12\, 115\, 138)\;">Tello Smiles</span></div>\n\n<div style="color: rgb(64\, 63\, 66)\; font-family: Arial\, Verdana\, Helvetica\, sans-serif\; font-size: 14px\; white-space: pre-wrap\; background-color: rgb(255\, 255\, 255)\; text-align: center\;"><span style="color: rgb(12\, 115\, 138)\;">Terror Isle Adventures</span></div>\n\n<div style="color: rgb(64\, 63\, 66)\; font-family: Arial\, Verdana\, Helvetica\, sans-serif\; font-size: 14px\; white-space: pre-wrap\; background-color: rgb(255\, 255\, 255)\; text-align: center\;"><span style="color: rgb(12\, 115\, 138)\;">Texas Entertainment Xperience</span></div>\n\n<div style="color: rgb(64\, 63\, 66)\; font-family: Arial\, Verdana\, Helvetica\, sans-serif\; font-size: 14px\; white-space: pre-wrap\; background-color: rgb(255\, 255\, 255)\; text-align: center\;"><span style="color: rgb(12\, 115\, 138)\;">Texas First Bank </span><span style="color:#DAA520\;">- <span style="font-size: 12px\; font-style: italic\; font-weight: bold\;">SPONSOR!</span></span></div>\n\n<div style="color: rgb(64\, 63\, 66)\; font-family: Arial\, Verdana\, Helvetica\, sans-serif\; font-size: 14px\; white-space: pre-wrap\; background-color: rgb(255\, 255\, 255)\; text-align: center\;"><span style="color: rgb(12\, 115\, 138)\;">Texas City ISD Foundation for the Future</span></div>\n\n<div style="color: rgb(64\, 63\, 66)\; font-family: Arial\, Verdana\, Helvetica\, sans-serif\; font-size: 14px\; white-space: pre-wrap\; background-color: rgb(255\, 255\, 255)\; text-align: center\;"><span style="color: rgb(12\, 115\, 138)\;">Texas Pit Stop BBQ</span></div>\n\n<div style="color: rgb(64\, 63\, 66)\; font-family: Arial\, Verdana\, Helvetica\, sans-serif\; font-size: 14px\; white-space: pre-wrap\; background-color: rgb(255\, 255\, 255)\; text-align: center\;"><span style="color: rgb(12\, 115\, 138)\;">The Daily News </span><span style="color:#DAA520\;">- <span style="font-size: 12px\; font-style: italic\; font-weight: bold\;">SPONSOR!</span></span></div>\n\n<div style="color: rgb(64\, 63\, 66)\; font-family: Arial\, Verdana\, Helvetica\, sans-serif\; font-size: 14px\; white-space: pre-wrap\; background-color: rgb(255\, 255\, 255)\; text-align: center\;"><span style="color: rgb(12\, 115\, 138)\;">UTMB Health </span><span style="color:#DAA520\;"><em><span style="font-size:12px\;">-<strong> SPONSOR!</strong></span></em></span></div>\n\n<div style="color: rgb(64\, 63\, 66)\; font-family: Arial\, Verdana\, Helvetica\, sans-serif\; font-size: 14px\; white-space: pre-wrap\; background-color: rgb(255\, 255\, 255)\; text-align: center\;"><span style="color: rgb(12\, 115\, 138)\;">Visiting Angels</span></div>\n\n<div style="color: rgb(64\, 63\, 66)\; font-family: Arial\, Verdana\, Helvetica\, sans-serif\; font-size: 14px\; white-space: pre-wrap\; background-color: rgb(255\, 255\, 255)\; text-align: center\;"><span style="color: rgb(12\, 115\, 138)\;">Wellby\, Powered by JSCFCU</span></div>\n\n<div style="color: rgb(64\, 63\, 66)\; font-family: Arial\, Verdana\, Helvetica\, sans-serif\; font-size: 14px\; white-space: pre-wrap\; background-color: rgb(255\, 255\, 255)\; text-align: center\;"><span style="color: rgb(12\, 115\, 138)\;">World Gym</span></div>\n\n<div style="color: rgb(64\, 63\, 66)\; font-family: Arial\, Verdana\, Helvetica\, sans-serif\; font-size: 14px\; white-space: pre-wrap\; background-color: rgb(255\, 255\, 255)\; text-align: center\;"><span style="color: rgb(12\, 115\, 138)\;">Zel's Massage &amp\; Fitness Center</span><br>\n&nbsp\;</div>\n\n<div style="color: rgb(64\, 63\, 66)\; font-family: Arial\, Verdana\, Helvetica\, sans-serif\; font-size: 14px\; white-space: pre-wrap\; background-color: rgb(255\, 255\, 255)\; text-align: center\;"><span style="font-size:16px\;"><span style="font-family:arial\,sans-serif\;">- - - - - - - - - - - - - - - - - - - - - - - - - - - -&nbsp\;</span></span></div>\n\n<div style="color: rgb(64\, 63\, 66)\; font-family: Arial\, Verdana\, Helvetica\, sans-serif\; font-size: 14px\; white-space: pre-wrap\; background-color: rgb(255\, 255\, 255)\; text-align: center\;">&nbsp\;</div>\n\n<div style="color: rgb(64\, 63\, 66)\; font-family: Arial\, Verdana\, Helvetica\, sans-serif\; font-size: 14px\; white-space: pre-wrap\; background-color: rgb(255\, 255\, 255)\;"><strong><span style="color:#EF9319\;"><span style="font-family:arial nova\,sans-serif\;"><span style="font-size:11.0pt\;">PRIZES &amp\; GIVEAWAYS</span></span></span></strong></div>\n<span style="font-weight:normal\;"><span style="font-family:avenir next lt pro\,sans-serif\;"><span style="font-size:11.0pt\;">Every exhibitor will give away at least one Door Prize. Drawings will be held every 30 minutes.&nbsp\; The two Grand Prize $100 VISA Gift Card drawings will be held at 1:00 and 3:00pm.</span></span></span>\n\n<h1 style="margin: 5.3pt 0in 0.0001pt\;">&nbsp\;</h1>\n
LOCATION:Mainland City Centre 10000 Emmett F Lowry Expwy. Texas City\, TX 77591
UID:e.2983.4144
SEQUENCE:3
DTSTAMP:20260421T050159Z
URL:https://directory.tclmchamber.com/events/details/business-showcase-4144
END:VEVENT

END:VCALENDAR
