BEGIN:VCALENDAR
VERSION:2.0
PRODID:-//ChamberMaster//Event Calendar 2.0//EN
METHOD:PUBLISH
X-PUBLISHED-TTL:P3D
REFRESH-INTERVAL:P3D
CALSCALE:GREGORIAN
BEGIN:VEVENT
DTSTART:20211214T230000Z
DTEND:20211215T010000Z
X-MICROSOFT-CDO-ALLDAYEVENT:FALSE
SUMMARY:Christmas Open House 2021
DESCRIPTION:Join us as we are getting into the Christmas Spirit at the Chamber Christmas Open House where it is our time to thank all of our Chamber members with food\, friendship and fun.  Celebrating the end of a successful year with our Chamber family\, business associates and friends is always our favorite time of the year.
X-ALT-DESC;FMTTYPE=text/html:<span style="color: rgb(34\, 34\, 34)\; font-family: Raleway\, sans-serif\; font-size: 16px\;">Join us as we are getting into the Christmas Spirit at the Chamber Christmas Open House where it is our time to thank all of our Chamber members with food\, friendship and fun.&nbsp\; Celebrating the end of a successful year with our Chamber family\, business associates and friends is always our favorite time of the year.</span>
LOCATION:9702 E.F. Lowry Expressway Texas City\, Texas 77591
UID:e.2983.4047
SEQUENCE:3
DTSTAMP:20260421T193217Z
URL:https://directory.tclmchamber.com/events/details/christmas-open-house-2021-4047
END:VEVENT

END:VCALENDAR
