BEGIN:VCALENDAR
VERSION:2.0
PRODID:-//ChamberMaster//Event Calendar 2.0//EN
METHOD:PUBLISH
X-PUBLISHED-TTL:P3D
REFRESH-INTERVAL:P3D
CALSCALE:GREGORIAN
BEGIN:VEVENT
DTSTART;VALUE=DATE:20190423
DTEND;VALUE=DATE:20190424
TRANSP:TRANSPARENT
X-MICROSOFT-CDO-ALLDAYEVENT:TRUE
SUMMARY:Industrial Trade Show
DESCRIPTION:The Industrial Trade Show is hosted by the Texas City-La Marque Chamber of Commerce and the Texas City Economic Development Corporation .  It is designed to increase local business by providing a place where vendors can set up display booths and  distribute information about their goods and services.   Potential buyers\, including large corporations from the Galveston County area\, are invited.\n\n \n\nBOOTHS\n\nBooths are offered to Chamber members on a first-come first-served basis at a rental fee of $750.00 per exhibitor.  Each exhibitor will be given tickets for advance distribution.  The trade show is a perfect opportunity for Chamber members to invite engineering\, maintenance\, operations\, purchasing and business personnel from the local  community to discover what each exhibitor has to offer. Due to high demand\, the contract and payment must be received at the Chamber office by March 27\, 2019 unless previously sold out.  Main Hall is restricted to Industrial   Businesses only.\n\n \n\nREFRESHMENTS/PRIZES\n\nDoor prizes and promotional advertising giveaways are being offered throughout the event\, and refreshments and lunch will be served.  There will be a brief orientation at the Charles T. Doyle Convention Center on April 23th  at 10:00 a.m.     \n\nENTRY FEE\n\nThe entry fee of $750.00 includes a 10 x 10 foot booth\, table\, two chairs\, drapes and a sign.    To reserve a booth\, return contract and payment to: Texas City - La Marque Chamber of Commerce\, P.O. Box 1717\, Texas City\, TX 77592-1717 or call (409) 935-1408. Completed applications may be returned by FAX: 409.316.0901 or by EMAIL: derek@texascitychamber.com\n\nSPONSORSHIPS\n\nCorporate Sponsor $4\,000.00 (limit of 2). Recognition on invitations\, tickets and Includes one booth)
X-ALT-DESC;FMTTYPE=text/html:<span style="font-weight:bold\;letter-spacing:-.1pt\;language:en-US\;"><span style="color:#003380\;"><span style="font-family:arial\;"><span style="font-size:11.0pt\;">The Industrial Trade Show is hosted by the Texas City-La Marque Chamber of Commerce and the Texas City Economic Development Corporation .&nbsp\; It is designed to increase local business by providing a place where vendors can set up display booths and&nbsp\; distribute information about their goods and services.&nbsp\;&nbsp\; Potential buyers\, including large corporations from the Galveston County area\, are invited.</span></span></span></span><br />\n&nbsp\;<br />\n<span style="text-decoration:underline\;text-underline:single\;font-weight:bold\;language:en-US\;"><span style="color:blue\;"><span style="font-family:arial\;">BOOTHS</span></span></span><br />\n<span style="font-weight:bold\;language:en-US\;"><span style="color:#000066\;"><span style="font-family:arial\;">Booths are offered to Chamber members on a first-come first-served basis at a rental fee of $750.00 per exhibitor.&nbsp\; Each exhibitor will be given tickets for advance distribution.&nbsp\; The trade show is a perfect opportunity for Chamber members to invite engineering\, maintenance\, operations\, purchasing and business personnel from the local&nbsp\; community to discover what each exhibitor has to offer. </span></span></span><span style="font-weight:bold\;letter-spacing:-.2pt\;language:en-US\;"><span style="color:#C01306\;"><span style="font-family:arial\;">Due to high demand\, the contract and payment must be received at the Chamber office by March 27\, 2019 unless previously sold out.&nbsp\; Main Hall is restricted to Industrial&nbsp\;&nbsp\; Businesses only.</span></span></span><br />\n&nbsp\;<br />\n<span style="text-decoration:underline\;text-underline:single\;font-weight:bold\;language:en-US\;"><span style="color:blue\;"><span style="font-family:arial\;">REFRESHMENTS/PRIZES</span></span></span><br />\n<span style="font-weight:bold\;letter-spacing:-.2pt\;language:en-US\;"><span style="color:#000066\;"><span style="font-family:arial\;">Door prizes and promotional advertising giveaways are being offered throughout the event\, and refreshments and lunch will be served. </span></span></span>&nbsp\;<span style="font-weight:bold\;letter-spacing:-.2pt\;language:en-US\;"><span style="color:#000066\;"><span style="font-family:arial\;">There will be a brief orientation at the Charles T. Doyle Convention Center on April 23th&nbsp\; at 10:00 a.m</span></span></span><span style="font-weight:bold\;language:en-US\;"><span style="color:#000066\;"><span style="font-family:arial\;">.</span></span></span> &nbsp\;&nbsp\;&nbsp\;&nbsp\;<br />\n<span style="text-decoration:underline\;text-underline:single\;font-weight:bold\;language:en-US\;"><span style="color:blue\;"><span style="font-family:arial\;">ENTRY FEE</span></span></span><br />\n<span style="font-weight:bold\;letter-spacing:-.2pt\;language:en-US\;"><span style="color:#000066\;"><span style="font-family:arial\;">The entry fee of $750.00 includes a 10 x 10 foot booth\, table\, two chairs\, drapes and a sign.&nbsp\;&nbsp\; </span></span></span>&nbsp\;<span style="font-weight:bold\;letter-spacing:-.2pt\;language:en-US\;"><span style="color:#000066\;"><span style="font-family:arial\;">To reserve a booth\, return contract and payment to: Texas City - La Marque Chamber of Commerce\, P.O. Box 1717\, Texas City\, TX 77592-1717 or call (409) 935-1408</span></span></span><span style="font-weight:bold\;language:en-US\;"><span style="color:#000066\;"><span style="font-family:arial\;">. </span></span></span><span style="font-weight:bold\;language:en-US\;"><span style="color:#C01306\;"><span style="font-family:arial\;">Completed applications may be returned by FAX: 409.316.0901 or by EMAIL: derek@texascitychamber.com</span></span></span><br />\n<span style="text-decoration:underline\;text-underline:single\;font-weight:bold\;language:en-US\;"><span style="color:blue\;"><span style="font-family:arial\;">SPONSORSHIPS</span></span></span><br />\n<span style="font-variant:small-caps\;font-weight:bold\;language:en-US\;"><span style="color:#000066\;"><span style="font-family:arial\;"><span style="font-size:11.0pt\;">Corporate Sponsor </span></span></span></span><span style="font-weight:bold\;language:en-US\;"><span style="color:#000066\;"><span style="font-family:arial\;"><span style="font-size:11.0pt\;">$4\,000.00 (limit of 2). Recognition on invitations\, tickets and Includes one booth)&nbsp\;&nbsp\;&nbsp\;&nbsp\;&nbsp\;&nbsp\;&nbsp\;&nbsp\;&nbsp\;&nbsp\;&nbsp\;&nbsp\;&nbsp\;&nbsp\;&nbsp\; </span></span></span></span><br />\n&nbsp\;<br />\n&nbsp\;
LOCATION:Doyle Convention Center 2010 5th Avenue N. Texas City\, Texas 77590
UID:e.2983.3568
SEQUENCE:3
DTSTAMP:20260423T142044Z
URL:https://directory.tclmchamber.com/events/details/industrial-trade-show-3568
END:VEVENT

END:VCALENDAR
