BEGIN:VCALENDAR
VERSION:2.0
PRODID:-//ChamberMaster//Event Calendar 2.0//EN
METHOD:PUBLISH
X-PUBLISHED-TTL:P3D
REFRESH-INTERVAL:P3D
CALSCALE:GREGORIAN
BEGIN:VEVENT
DTSTART:20211212T010000Z
DTEND:20211212T050000Z
X-MICROSOFT-CDO-ALLDAYEVENT:FALSE
SUMMARY:Krewe Babalu Bowl-a-thon
DESCRIPTION:
X-ALT-DESC;FMTTYPE=text/html:
LOCATION:AMF Bowling Lanes 2404 Palmer Hwy Texas City\, Tx 77590
UID:e.2983.4129
SEQUENCE:3
DTSTAMP:20260421T192643Z
URL:https://directory.tclmchamber.com/events/details/krewe-babalu-bowl-a-thon-4129
END:VEVENT

END:VCALENDAR
