BEGIN:VCALENDAR
VERSION:2.0
PRODID:-//ChamberMaster//Event Calendar 2.0//EN
METHOD:PUBLISH
X-PUBLISHED-TTL:P3D
REFRESH-INTERVAL:P3D
CALSCALE:GREGORIAN
BEGIN:VEVENT
DTSTART:20211012T160000Z
DTEND:20211012T170000Z
X-MICROSOFT-CDO-ALLDAYEVENT:FALSE
SUMMARY:Level UP Workshop -10 Steps to Legitimize Your Business
DESCRIPTION:Attend this free workshop to Level Up your business!\n\n"10 Steps to Legitimize Your Business"\n\nThis workshop will cover the following topics:\n\n1.  Organization Structure (DBA\, LLC\, Inc.)\, Employer Identification  \n\n Number (EIN)\, and Tips for Choosing a Business Name\n\n2.  Texas Sales Tax and Federal Tax Responsibilities\n\n3.  State/County/City Regulations\, Licenses & Permits\n\n4.  Business Banking\n\n5.  Recordkeeping\n\n6.  Insurance\n\n7.  Resiliency and Business Plan\n\n8.  Find your Target Customer\n\n9.  Marketing Plan and Community Involvement\n\n10.  Government Contracting and HUB Certifications\n\n\n\nSpeaker: Amy Reid\, Small Business Development Center-Galveston County\n\n \n\n This workshop is free\, but seating is limited. Please use the "REGISTER" button on this page to reserve a seat for yourself.
X-ALT-DESC;FMTTYPE=text/html:<p><span style="font-style:italic\;font-weight:bold\;language:en-US\;"><span style="font-family:calibri\;"><span style="font-size:16.0pt\;">Attend this free workshop to Level Up your business!</span></span></span><br />\n<span style="font-weight:bold\;language:en-US\;"><span style="font-family:calibri\;"><span style="font-size:22.0pt\;">&ldquo\;10 Steps to Legitimize Your Business&rdquo\;</span></span></span></p>\n\n<p><span style="font-style:italic\;font-weight:bold\;language:en-US\;"><span style="font-family:calibri\;"><span style="font-size:14.0pt\;">This workshop will cover the following topics:</span></span></span><br />\n<span style="direction:ltr\;unicode-bidi:embed\;language:en-US\;"><span style="color:black\;"><span style="font-size:14.0pt\;"><span style="font-family:calibri\;">1.</span></span></span></span>&nbsp\;<span style="language:en-US\;"><span style="font-family:calibri\;"><span style="font-size:14.0pt\;"> Organization Structure (DBA\, LLC\, Inc.)\, Employer Identification&nbsp\;&nbsp\;<br />\n&nbsp\;Number (EIN)\, and Tips for Choosing a Business Name</span></span></span><br />\n<span style="direction:ltr\;unicode-bidi:embed\;language:en-US\;"><span style="color:black\;"><span style="font-size:14.0pt\;"><span style="font-family:calibri\;">2.</span></span></span></span>&nbsp\;<span style="language:en-US\;"><span style="font-family:calibri\;"><span style="font-size:14.0pt\;"> Texas Sales Tax and Federal Tax Responsibilities</span></span></span><br />\n<span style="direction:ltr\;unicode-bidi:embed\;language:en-US\;"><span style="color:black\;"><span style="font-size:14.0pt\;"><span style="font-family:calibri\;">3.</span></span></span></span>&nbsp\;<span style="language:en-US\;"><span style="font-family:calibri\;"><span style="font-size:14.0pt\;"> State/County/City Regulations\, Licenses &amp\; Permits</span></span></span><br />\n<span style="direction:ltr\;unicode-bidi:embed\;language:en-US\;"><span style="color:black\;"><span style="font-size:14.0pt\;"><span style="font-family:calibri\;">4.</span></span></span></span>&nbsp\;<span style="language:en-US\;"><span style="font-family:calibri\;"><span style="font-size:14.0pt\;"> Business Banking</span></span></span><br />\n<span style="direction:ltr\;unicode-bidi:embed\;language:en-US\;"><span style="color:black\;"><span style="font-size:14.0pt\;"><span style="font-family:calibri\;">5.</span></span></span></span>&nbsp\;<span style="language:en-US\;"><span style="font-family:calibri\;"><span style="font-size:14.0pt\;"> Recordkeeping</span></span></span><br />\n<span style="direction:ltr\;unicode-bidi:embed\;language:en-US\;"><span style="color:black\;"><span style="font-size:14.0pt\;"><span style="font-family:calibri\;">6.</span></span></span></span>&nbsp\;<span style="language:en-US\;"><span style="font-family:calibri\;"><span style="font-size:14.0pt\;"> Insurance</span></span></span><br />\n<span style="direction:ltr\;unicode-bidi:embed\;language:en-US\;"><span style="color:black\;"><span style="font-size:14.0pt\;"><span style="font-family:calibri\;">7.</span></span></span></span>&nbsp\;<span style="language:en-US\;"><span style="font-family:calibri\;"><span style="font-size:14.0pt\;"> Resiliency and Business Plan</span></span></span><br />\n<span style="direction:ltr\;unicode-bidi:embed\;language:en-US\;"><span style="color:black\;"><span style="font-size:14.0pt\;"><span style="font-family:calibri\;">8.</span></span></span></span>&nbsp\;<span style="language:en-US\;"><span style="font-family:calibri\;"><span style="font-size:14.0pt\;"> Find your Target Customer</span></span></span><br />\n<span style="direction:ltr\;unicode-bidi:embed\;language:en-US\;"><span style="color:black\;"><span style="font-size:14.0pt\;"><span style="font-family:calibri\;">9.</span></span></span></span>&nbsp\;<span style="language:en-US\;"><span style="font-family:calibri\;"><span style="font-size:14.0pt\;"> Marketing Plan and Community Involvement</span></span></span><br />\n<span style="direction:ltr\;unicode-bidi:embed\;language:en-US\;"><span style="color:black\;"><span style="font-size:14.0pt\;"><span style="font-family:calibri\;">10.</span></span></span></span>&nbsp\;<span style="language:en-US\;"><span style="font-family:calibri\;"><span style="font-size:14.0pt\;"> Government Contracting and HUB Certifications<br />\n<br />\nSpeaker: Amy Reid\, Small Business Development Center-Galveston County</span></span></span><br />\n&nbsp\;<br />\n&nbsp\;This workshop is free\, but seating is limited. Please use the &quot\;REGISTER&quot\; button on this page to reserve a seat for yourself.&nbsp\;&nbsp\;<br />\n<br />\n<br />\n&nbsp\;</p>\n
LOCATION:Texas City-La Marque Chamber Conference Room 9702 E. F. Lowry Expressway Texas City\, Texas 77591
UID:e.2983.4115
SEQUENCE:3
DTSTAMP:20260421T220219Z
URL:https://directory.tclmchamber.com/events/details/level-up-workshop-10-steps-to-legitimize-your-business-4115
END:VEVENT

END:VCALENDAR
