BEGIN:VCALENDAR
VERSION:2.0
PRODID:-//ChamberMaster//Event Calendar 2.0//EN
METHOD:PUBLISH
X-PUBLISHED-TTL:P3D
REFRESH-INTERVAL:P3D
CALSCALE:GREGORIAN
BEGIN:VEVENT
DTSTART:20211202T173000Z
DTEND:20211202T180000Z
X-MICROSOFT-CDO-ALLDAYEVENT:FALSE
SUMMARY:Ribbon Cutting - A Helping Hand Home Care Service
DESCRIPTION:
X-ALT-DESC;FMTTYPE=text/html:
LOCATION:TCLM Chamber Conference Room
UID:e.2983.4126
SEQUENCE:3
DTSTAMP:20260421T193348Z
URL:https://directory.tclmchamber.com/events/details/ribbon-cutting-a-helping-hand-home-care-service-4126
END:VEVENT

END:VCALENDAR
