BEGIN:VCALENDAR
VERSION:2.0
PRODID:-//ChamberMaster//Event Calendar 2.0//EN
METHOD:PUBLISH
X-PUBLISHED-TTL:P3D
REFRESH-INTERVAL:P3D
CALSCALE:GREGORIAN
BEGIN:VEVENT
DTSTART:20220216T173000Z
DTEND:20220216T190000Z
X-MICROSOFT-CDO-ALLDAYEVENT:FALSE
SUMMARY:State of the County & Cities 2022 - Business Luncheon
DESCRIPTION:Attend to hear directly from local elected officials about current news and information pertaining to the region:\n\n\n\n  - La Marque Mayor Keith Bell\n\n  - Texas City Mayor Dedrick Johnson \n\n  - County Commissioner-Precinct 2 Joe Giusti  \n\n\n\nEnjoy networking with local community leaders and a delicious catered lunch.\n\n\n\nFor more event information\, please contact Chamber Operations & Events Manager Stefanie Aldrich at 409-935-1408 or stefanie@TCLMchamber.com
X-ALT-DESC;FMTTYPE=text/html:<br />\n<span style="font-size:14px\;"><span background-color:="" font-size:="" trebuchet="">Attend to hear directly from local elected officials&nbsp\;</span><span background-color:="" font-size:="" style="color: rgb(51\, 51\, 51)\; font-family: sans-serif\, Arial\, Verdana\, " trebuchet="">about current news and information pertaining to the region:<br />\n<br />\n&nbsp\; - La Marque Mayor Keith Bell</span><br />\n<span background-color:="" font-size:="" trebuchet="">&nbsp\; - Texas City Mayor Dedrick Johnson&nbsp\;<br />\n&nbsp\; - County Commissioner-Precinct 2 Joe Giusti&nbsp\;&nbsp\;<br />\n<br />\nEnjoy networking with local community leaders and a delicious catered lunch.</span><br />\n<br />\nFor more event information\, please contact Chamber Operations &amp\; Events Manager Stefanie Aldrich at 409-935-1408 or stefanie@TCLMchamber.com&nbsp\;&nbsp\;</span><br />\n&nbsp\;
LOCATION:Doyle Convention Center 2010 5th Avenue N. Texas City\, Texas 77590
UID:e.2983.4131
SEQUENCE:3
DTSTAMP:20260421T165314Z
URL:https://directory.tclmchamber.com/events/details/state-of-the-county-cities-2022-business-luncheon-4131
END:VEVENT

END:VCALENDAR
