BEGIN:VCALENDAR
VERSION:2.0
PRODID:-//ChamberMaster//Event Calendar 2.0//EN
METHOD:PUBLISH
X-PUBLISHED-TTL:P3D
REFRESH-INTERVAL:P3D
CALSCALE:GREGORIAN
BEGIN:VEVENT
DTSTART:20211021T163000Z
DTEND:20211021T180000Z
X-MICROSOFT-CDO-ALLDAYEVENT:FALSE
SUMMARY:Women in Business Networking Luncheon-Oct '21
DESCRIPTION:ENJOY THE NEXT WOMEN IN BUSINESS EVENT WITH THE CHAMBER!\n\n\n\nNetwork with other Women in Business in the Texas City-La Marque community. This month's event is sponsored by UTMB Health and hosted in the Chamber Conference Room.\n\n\n\nFeaturing a special presentation on Breast Cancer Awareness by Dr. Colleen Silva from UTMB Health.\n\n\n\nEnjoy a delicious catered lunch\, networking and door prizes. Boost your business network and make new friends!\n\n\n\nBring a door prize to give away to promote your business!
X-ALT-DESC;FMTTYPE=text/html:ENJOY THE NEXT WOMEN IN BUSINESS EVENT WITH THE CHAMBER!<br />\n<br />\nNetwork with other Women in Business in the Texas City-La Marque community. This month&#39\;s event is sponsored by UTMB Health and hosted in the Chamber Conference Room.<br />\n<br />\nFeaturing a special presentation on Breast Cancer Awareness by Dr. Colleen Silva from UTMB Health.<br />\n<br />\nEnjoy a delicious catered lunch\, networking and door prizes. Boost your business network and make new friends!<br />\n<br />\nBring a door prize to give away to promote your business!
LOCATION:Texas City-La Marque Chamber Conference Room 9702 E.F. Lowry Expressway Texas City\, Texas 77591
UID:e.2983.4060
SEQUENCE:3
DTSTAMP:20260421T220255Z
URL:https://directory.tclmchamber.com/events/details/women-in-business-networking-luncheon-oct-21-4060
END:VEVENT

END:VCALENDAR
