BEGIN:VCALENDAR
VERSION:2.0
PRODID:-//ChamberMaster//Event Calendar 2.0//EN
METHOD:PUBLISH
X-PUBLISHED-TTL:P3D
REFRESH-INTERVAL:P3D
CALSCALE:GREGORIAN
BEGIN:VEVENT
DTSTART;VALUE=DATE:20211016
DTEND;VALUE=DATE:20211017
TRANSP:TRANSPARENT
X-MICROSOFT-CDO-ALLDAYEVENT:TRUE
SUMMARY:Young Professionals of the Mainland
DESCRIPTION:Network with other Young Professionals in the Texas City-La Marque business community.  Sign up for a volunteer shift at Bayou Fest and assist with festival preparations!
X-ALT-DESC;FMTTYPE=text/html:Network with other Young Professionals in the Texas City-La Marque business community.&nbsp\; Sign up for a volunteer shift at Bayou Fest and assist with festival preparations!
LOCATION:TBA
UID:e.2983.4071
SEQUENCE:3
DTSTAMP:20260421T220434Z
URL:https://directory.tclmchamber.com/events/details/young-professionals-of-the-mainland-10-14-2021-4071
END:VEVENT

END:VCALENDAR
